BEGIN:VCALENDAR
VERSION:2.0
PRODID:SchoolNow
CALSCALE:GREGORIAN
BEGIN:VEVENT
UID:b2e93042-420e-11ea-ac67-0a8554dcf769
DTSTAMP:20200128T204228Z
SUMMARY:Girls Basketball at Zeeland Cityside
URL;VALUE=URI:https://www.hudsonvillepublicschools.org/baldwinstreet/athlet
 ics/calendar/2191315/girls-basketball-at-zeeland-cityside
DTSTART:20200218T210000Z
DTEND:20200219T000000Z
END:VEVENT
END:VCALENDAR
