BEGIN:VCALENDAR
VERSION:2.0
PRODID:SchoolNow
CALSCALE:GREGORIAN
BEGIN:VEVENT
UID:31e0dc9a-420c-11ea-a372-12e8d04043ad
DTSTAMP:20200128T202433Z
SUMMARY:GiIrls Basketball home vs. Grand Haven Blue
URL;VALUE=URI:https://www.hudsonvillepublicschools.org/baldwinstreet/athlet
 ics/calendar/2191312/giirls-basketball-home-vs-grand-haven-blue
DTSTART:20200212T210000Z
DTEND:20200213T000000Z
END:VEVENT
END:VCALENDAR
