BEGIN:VCALENDAR
VERSION:2.0
PRODID:SchoolNow
CALSCALE:GREGORIAN
BEGIN:VEVENT
UID:dd932602-420b-11ea-947a-0a8554dcf769
DTSTAMP:20200128T202211Z
SUMMARY:Girls Basketball at Jenison
URL;VALUE=URI:https://www.hudsonvillepublicschools.org/baldwinstreet/athlet
 ics/calendar/2191310/girls-basketball-at-jenison
DTSTART:20200205T210000Z
DTEND:20200206T000000Z
END:VEVENT
END:VCALENDAR
