BEGIN:VCALENDAR
VERSION:2.0
PRODID:SchoolNow
CALSCALE:GREGORIAN
BEGIN:VEVENT
UID:b9b8992e-420b-11ea-8af6-0a8554dcf769
DTSTAMP:20200128T202111Z
SUMMARY:Girls Basketball home vs. Pinewood
URL;VALUE=URI:https://www.hudsonvillepublicschools.org/baldwinstreet/athlet
 ics/calendar/2191308/girls-basketball-home-vs-pinewood
DTSTART:20200129T210000Z
DTEND:20200130T000000Z
END:VEVENT
END:VCALENDAR
