BEGIN:VCALENDAR
VERSION:2.0
PRODID:SchoolNow
CALSCALE:GREGORIAN
BEGIN:VEVENT
UID:41aee89c-184f-11ea-8be3-0a0295225253
DTSTAMP:20191206T173847Z
SUMMARY:Competitive Cheer at Hudsonville Invitational
URL;VALUE=URI:https://www.hudsonvillepublicschools.org/baldwinstreet/athlet
 ics/calendar/2156137/competitive-cheer-at-hudsonville-invitational
DTSTART:20200118T140000Z
DTEND:20200118T180000Z
END:VEVENT
END:VCALENDAR
