BEGIN:VCALENDAR
VERSION:2.0
PRODID:SchoolNow
CALSCALE:GREGORIAN
BEGIN:VEVENT
UID:ffb6ce96-184e-11ea-b5f0-0a0295225253
DTSTAMP:20191206T173656Z
SUMMARY:Competitive Cheer at West Ottawa
URL;VALUE=URI:https://www.hudsonvillepublicschools.org/baldwinstreet/athlet
 ics/calendar/2156136/competitive-cheer-at-west-ottawa
DTSTART:20200111T140000Z
DTEND:20200111T180000Z
END:VEVENT
END:VCALENDAR
