BEGIN:VCALENDAR
VERSION:2.0
PRODID:SchoolNow
CALSCALE:GREGORIAN
BEGIN:VEVENT
UID:c350a5c6-184e-11ea-b84e-1244b6c89e8b
DTSTAMP:20191206T173515Z
SUMMARY:Competitive Cheer at Mona Shores
URL;VALUE=URI:https://www.hudsonvillepublicschools.org/baldwinstreet/athlet
 ics/calendar/2156135/competitive-cheer-at-mona-shores
DTSTART:20191218T173300Z
DTEND:20191218T183300Z
END:VEVENT
END:VCALENDAR
