BEGIN:VCALENDAR
VERSION:2.0
PRODID:SchoolNow
CALSCALE:GREGORIAN
BEGIN:VEVENT
UID:5fb773f0-184e-11ea-85ce-0a0295225253
DTSTAMP:20191206T173228Z
SUMMARY:Competitive Cheer at Jenison Invitational
URL;VALUE=URI:https://www.hudsonvillepublicschools.org/baldwinstreet/athlet
 ics/calendar/2156134/competitive-cheer-at-jenison-invitational
DTSTART:20191214T150000Z
DTEND:20191214T180000Z
END:VEVENT
END:VCALENDAR
