BEGIN:VCALENDAR
VERSION:2.0
PRODID:SchoolNow
CALSCALE:GREGORIAN
BEGIN:VEVENT
UID:0dc3b612-184e-11ea-9316-0a60e0b7a9a7
DTSTAMP:20191206T173010Z
SUMMARY:Competitive Cheer at Rockford
URL;VALUE=URI:https://www.hudsonvillepublicschools.org/baldwinstreet/athlet
 ics/calendar/2156133/competitive-cheer-at-rockford
DTSTART:20191207T150000Z
DTEND:20191207T180000Z
END:VEVENT
END:VCALENDAR
