BEGIN:VCALENDAR
VERSION:2.0
PRODID:SchoolNow
CALSCALE:GREGORIAN
BEGIN:VEVENT
UID:e1e66fa8-184d-11ea-b819-0a0295225253
DTSTAMP:20191206T172856Z
SUMMARY:Competitive Cheer
URL;VALUE=URI:https://www.hudsonvillepublicschools.org/baldwinstreet/athlet
 ics/calendar/2156132/competitive-cheer
DTSTART:20191203T172700Z
DTEND:20191204T013000Z
END:VEVENT
END:VCALENDAR
