BEGIN:VCALENDAR
VERSION:2.0
PRODID:SchoolNow
CALSCALE:GREGORIAN
BEGIN:VEVENT
UID:45370972-fc16-11e9-8b1f-120d38d22dee
DTSTAMP:20191031T194019Z
SUMMARY:Boys Basketball at Pinewood
URL;VALUE=URI:https://www.hudsonvillepublicschools.org/baldwinstreet/athlet
 ics/calendar/2137018/boys-basketball-at-pinewood
DTSTART:20191216T210000Z
DTEND:20191216T233000Z
END:VEVENT
END:VCALENDAR
