BEGIN:VCALENDAR
VERSION:2.0
PRODID:SchoolNow
CALSCALE:GREGORIAN
BEGIN:VEVENT
UID:f05df64a-fc15-11e9-acc4-0abee46931d7
DTSTAMP:20191031T193756Z
SUMMARY:Boys Basketball home vs. Fruitport
URL;VALUE=URI:https://www.hudsonvillepublicschools.org/baldwinstreet/athlet
 ics/calendar/2137017/boys-basketball-home-vs-fruitport
DTSTART:20191212T210000Z
DTEND:20191212T233000Z
END:VEVENT
END:VCALENDAR
