BEGIN:VCALENDAR
VERSION:2.0
PRODID:SchoolNow
CALSCALE:GREGORIAN
BEGIN:VEVENT
UID:cb2585dc-fc15-11e9-a7a0-0abee46931d7
DTSTAMP:20191031T193654Z
SUMMARY:Boys Basketball at Valleywood
URL;VALUE=URI:https://www.hudsonvillepublicschools.org/baldwinstreet/athlet
 ics/calendar/2137016/boys-basketball-at-valleywood
DTSTART:20191211T210000Z
DTEND:20191211T233000Z
END:VEVENT
END:VCALENDAR
