BEGIN:VCALENDAR
VERSION:2.0
PRODID:SchoolNow
CALSCALE:GREGORIAN
BEGIN:VEVENT
UID:a6b055e2-fc15-11e9-9bb5-0abee46931d7
DTSTAMP:20191031T193553Z
SUMMARY:Boys Basketball home vs. Jenison
URL;VALUE=URI:https://www.hudsonvillepublicschools.org/baldwinstreet/athlet
 ics/calendar/2137015/boys-basketball-home-vs-jenison
DTSTART:20191209T210000Z
DTEND:20191209T233000Z
END:VEVENT
END:VCALENDAR
