BEGIN:VCALENDAR
VERSION:2.0
PRODID:SchoolNow
CALSCALE:GREGORIAN
BEGIN:VEVENT
UID:868c6468-fc15-11e9-b35b-0abee46931d7
DTSTAMP:20191031T193459Z
SUMMARY:Boys Basketball home vs. Byron Center
URL;VALUE=URI:https://www.hudsonvillepublicschools.org/baldwinstreet/athlet
 ics/calendar/2137014/boys-basketball-home-vs-byron-center
DTSTART:20191204T210000Z
DTEND:20191204T233000Z
END:VEVENT
END:VCALENDAR
