BEGIN:VCALENDAR
VERSION:2.0
PRODID:SchoolNow
CALSCALE:GREGORIAN
BEGIN:VEVENT
UID:4918381e-fc15-11e9-a408-12703b65cce2
DTSTAMP:20191031T193316Z
SUMMARY:Boys Basketball home vs. Muskegon
URL;VALUE=URI:https://www.hudsonvillepublicschools.org/baldwinstreet/athlet
 ics/calendar/2137013/boys-basketball-home-vs-muskegon
DTSTART:20191202T210000Z
DTEND:20191202T233000Z
END:VEVENT
END:VCALENDAR
