BEGIN:VCALENDAR
VERSION:2.0
PRODID:SchoolNow
CALSCALE:GREGORIAN
BEGIN:VEVENT
UID:24f62a68-fc15-11e9-ad43-12703b65cce2
DTSTAMP:20191031T193215Z
SUMMARY:Boys Basketballl at Zeeland Cityside
URL;VALUE=URI:https://www.hudsonvillepublicschools.org/baldwinstreet/athlet
 ics/calendar/2137012/boys-basketballl-at-zeeland-cityside
DTSTART:20191125T210000Z
DTEND:20191125T233000Z
END:VEVENT
END:VCALENDAR
