BEGIN:VCALENDAR
VERSION:2.0
PRODID:SchoolNow
CALSCALE:GREGORIAN
BEGIN:VEVENT
UID:cb473458-fc14-11e9-af67-12703b65cce2
DTSTAMP:20191031T192945Z
SUMMARY:Boys Basketball home vs. Grand Haven Blue
URL;VALUE=URI:https://www.hudsonvillepublicschools.org/baldwinstreet/athlet
 ics/calendar/2137000/boys-basketball-home-vs-grand-haven-blue
DTSTART:20191121T210000Z
DTEND:20191121T233000Z
END:VEVENT
END:VCALENDAR
