BEGIN:VCALENDAR
VERSION:2.0
PRODID:SchoolNow
CALSCALE:GREGORIAN
BEGIN:VEVENT
UID:24e5801a-fc14-11e9-a765-120d38d22dee
DTSTAMP:20191031T192821Z
SUMMARY:Boys Basketball at Jenison
URL;VALUE=URI:https://www.hudsonvillepublicschools.org/baldwinstreet/athlet
 ics/calendar/2136999/boys-basketball-home-at-jenison
DTSTART:20191114T210000Z
DTEND:20191114T233000Z
END:VEVENT
END:VCALENDAR
