BEGIN:VCALENDAR
VERSION:2.0
PRODID:SchoolNow
CALSCALE:GREGORIAN
BEGIN:VEVENT
UID:c0944ffc-fc12-11e9-a360-12703b65cce2
DTSTAMP:20191031T191508Z
SUMMARY:Boys Basketball at Crestwood
URL;VALUE=URI:https://www.hudsonvillepublicschools.org/baldwinstreet/athlet
 ics/calendar/2136996/boys-basketball-at-crestwood
DTSTART:20191119T210000Z
DTEND:20191119T233000Z
END:VEVENT
END:VCALENDAR
