BEGIN:VCALENDAR
VERSION:2.0
PRODID:SchoolNow
CALSCALE:GREGORIAN
BEGIN:VEVENT
UID:692e8ff2-fc12-11e9-ba63-12703b65cce2
DTSTAMP:20191031T191241Z
SUMMARY:Boys Basketball at Riley
URL;VALUE=URI:https://www.hudsonvillepublicschools.org/baldwinstreet/athlet
 ics/calendar/2136994/boys-basketball-at-riley
DTSTART:20191112T210000Z
DTEND:20191112T233000Z
END:VEVENT
END:VCALENDAR
