BEGIN:VCALENDAR
VERSION:2.0
PRODID:SchoolNow
CALSCALE:GREGORIAN
BEGIN:VEVENT
UID:46b10ee6-fc12-11e9-b975-12703b65cce2
DTSTAMP:20191031T191143Z
SUMMARY:Boys Basketball home vs. Pinewood
URL;VALUE=URI:https://www.hudsonvillepublicschools.org/baldwinstreet/athlet
 ics/calendar/2136993/boys-basketball-home-vs-pinewood
DTSTART:20191107T210000Z
DTEND:20191107T233000Z
END:VEVENT
END:VCALENDAR
