BEGIN:VCALENDAR
VERSION:2.0
PRODID:SchoolNow
CALSCALE:GREGORIAN
BEGIN:VEVENT
UID:6265e708-d320-11e9-a91a-0acb374d1020
DTSTAMP:20191010T142612Z
SUMMARY:8th Grade Football at Mona Shores
URL;VALUE=URI:https://www.hudsonvillepublicschools.org/baldwinstreet/athlet
 ics/calendar/2087075/maize-football-at-mona-shores
DTSTART:20191016T200000Z
DTEND:20191016T230000Z
END:VEVENT
END:VCALENDAR
