BEGIN:VCALENDAR
VERSION:2.0
PRODID:SchoolNow
CALSCALE:GREGORIAN
BEGIN:VEVENT
UID:30bd8d8c-d320-11e9-8abc-0ac772979612
DTSTAMP:20190910T185009Z
SUMMARY:Maize 8th Grade Football at Fruitport
URL;VALUE=URI:https://www.hudsonvillepublicschools.org/baldwinstreet/athlet
 ics/calendar/2087074/maize-8th-grade-football
DTSTART:20191009T213000Z
DTEND:20191009T230000Z
END:VEVENT
END:VCALENDAR
