BEGIN:VCALENDAR
VERSION:2.0
PRODID:SchoolNow
CALSCALE:GREGORIAN
BEGIN:VEVENT
UID:027cfa16-d320-11e9-8d36-0ac772979612
DTSTAMP:20190910T145058Z
SUMMARY:Maize 7th Grade Football at Grandville
URL;VALUE=URI:https://www.hudsonvillepublicschools.org/baldwinstreet/athlet
 ics/calendar/2087073/maize-7th-grade-football-at-fruitport
DTSTART:20191009T200000Z
DTEND:20191009T213000Z
END:VEVENT
END:VCALENDAR
