BEGIN:VCALENDAR
VERSION:2.0
PRODID:SchoolNow
CALSCALE:GREGORIAN
BEGIN:VEVENT
UID:224e3982-d31f-11e9-8c83-12221ab94a1e
DTSTAMP:20190909T164130Z
SUMMARY:Mazie Football home vs. Hamilton
URL;VALUE=URI:https://www.hudsonvillepublicschools.org/baldwinstreet/athlet
 ics/calendar/2087072/mazie-football-home-vs-hamilton
DTSTART:20191002T200000Z
DTEND:20191002T230000Z
END:VEVENT
END:VCALENDAR
