BEGIN:VCALENDAR
VERSION:2.0
PRODID:SchoolNow
CALSCALE:GREGORIAN
BEGIN:VEVENT
UID:cb93af4c-d31d-11e9-adea-12b25217d162
DTSTAMP:20190909T162053Z
SUMMARY:Maize Football at Byron Center
URL;VALUE=URI:https://www.hudsonvillepublicschools.org/baldwinstreet/athlet
 ics/calendar/2087065/maize-football-at-byron-center
DTSTART:20190925T200000Z
DTEND:20190925T230000Z
END:VEVENT
END:VCALENDAR
