BEGIN:VCALENDAR
VERSION:2.0
PRODID:SchoolNow
CALSCALE:GREGORIAN
BEGIN:VEVENT
UID:1b835580-d31d-11e9-812b-12221ab94a1e
DTSTAMP:20190909T161558Z
SUMMARY:Maize Football home vs. West Ottawa
URL;VALUE=URI:https://www.hudsonvillepublicschools.org/baldwinstreet/athlet
 ics/calendar/2087062/maize-football-home-vs-west-ottawa
DTSTART:20190917T200000Z
DTEND:20190917T230000Z
END:VEVENT
END:VCALENDAR
