BEGIN:VCALENDAR
VERSION:2.0
PRODID:SchoolNow
CALSCALE:GREGORIAN
BEGIN:VEVENT
UID:b8452f56-d318-11e9-8230-1268c9ebd272
DTSTAMP:20190909T154433Z
SUMMARY:Maize Football home vs. Grandville Maroon
URL;VALUE=URI:https://www.hudsonvillepublicschools.org/baldwinstreet/athlet
 ics/calendar/2086995/maize-football-home-vs-grandville-maroon
DTSTART:20190911T200000Z
DTEND:20190911T230000Z
END:VEVENT
END:VCALENDAR
