BEGIN:VCALENDAR
VERSION:2.0
PRODID:SchoolNow
CALSCALE:GREGORIAN
BEGIN:VEVENT
UID:a73e2a92-d317-11e9-a9ef-125df8fdc776
DTSTAMP:20191010T142550Z
SUMMARY:7th Grade Blue Football home vs. Zeeland Cityside
URL;VALUE=URI:https://www.hudsonvillepublicschools.org/baldwinstreet/athlet
 ics/calendar/2086994/blue-football-home-vs-zeeland-cityside
DTSTART:20191016T200000Z
DTEND:20191016T230000Z
END:VEVENT
END:VCALENDAR
