BEGIN:VCALENDAR
VERSION:2.0
PRODID:SchoolNow
CALSCALE:GREGORIAN
BEGIN:VEVENT
UID:773c0828-d317-11e9-a715-12221ab94a1e
DTSTAMP:20190909T153534Z
SUMMARY:Blue Football at Muskegon
URL;VALUE=URI:https://www.hudsonvillepublicschools.org/baldwinstreet/athlet
 ics/calendar/2086993/blue-football-at-muskegon
DTSTART:20191009T200000Z
DTEND:20191009T230000Z
END:VEVENT
END:VCALENDAR
