BEGIN:VCALENDAR
VERSION:2.0
PRODID:SchoolNow
CALSCALE:GREGORIAN
BEGIN:VEVENT
UID:4f915e2c-d317-11e9-b478-0ac772979612
DTSTAMP:20190909T153428Z
SUMMARY:Blue Football at Byron Center
URL;VALUE=URI:https://www.hudsonvillepublicschools.org/baldwinstreet/athlet
 ics/calendar/2086992/blue-football-at-byron-center
DTSTART:20191002T200000Z
DTEND:20191002T230000Z
END:VEVENT
END:VCALENDAR
