BEGIN:VCALENDAR
VERSION:2.0
PRODID:SchoolNow
CALSCALE:GREGORIAN
BEGIN:VEVENT
UID:eb6628c4-d316-11e9-b2ac-12943ab48536
DTSTAMP:20190909T153755Z
SUMMARY:Blue Football home vs. Mona Shores
URL;VALUE=URI:https://www.hudsonvillepublicschools.org/baldwinstreet/athlet
 ics/calendar/2086990/blue-football-home-vs-mona-shores
DTSTART:20190925T200000Z
DTEND:20190925T230000Z
END:VEVENT
END:VCALENDAR
