BEGIN:VCALENDAR
VERSION:2.0
PRODID:SchoolNow
CALSCALE:GREGORIAN
BEGIN:VEVENT
UID:c0eb761c-d316-11e9-89f8-12b25217d162
DTSTAMP:20190909T153733Z
SUMMARY:Blue Football home vs. Holland Christian
URL;VALUE=URI:https://www.hudsonvillepublicschools.org/baldwinstreet/athlet
 ics/calendar/2086988/blue-football-home-vs-holland-christian
DTSTART:20190918T200000Z
DTEND:20190918T230000Z
END:VEVENT
END:VCALENDAR
