BEGIN:VCALENDAR
VERSION:2.0
PRODID:SchoolNow
CALSCALE:GREGORIAN
BEGIN:VEVENT
UID:4a35574a-d316-11e9-9f7f-1268c9ebd272
DTSTAMP:20190909T153713Z
SUMMARY:Blue Football at Holland
URL;VALUE=URI:https://www.hudsonvillepublicschools.org/baldwinstreet/athlet
 ics/calendar/2086987/blue-football-at-holland
DTSTART:20190911T200000Z
DTEND:20190911T230000Z
END:VEVENT
END:VCALENDAR
