BEGIN:VCALENDAR
VERSION:2.0
PRODID:SchoolNow
CALSCALE:GREGORIAN
BEGIN:VEVENT
UID:3a13c2c6-980f-11e9-ba0b-0aff7437acd2
DTSTAMP:20190626T123757Z
SUMMARY:Boys Soccer at Jenison
URL;VALUE=URI:https://www.hudsonvillepublicschools.org/baldwinstreet/athlet
 ics/calendar/2013147/boys-soccer-at-jenison
DTSTART:20191017T200000Z
DTEND:20191017T220000Z
END:VEVENT
END:VCALENDAR
