BEGIN:VCALENDAR
VERSION:2.0
PRODID:SchoolNow
CALSCALE:GREGORIAN
BEGIN:VEVENT
UID:fdaa52fa-980e-11e9-8ead-12a59db50d30
DTSTAMP:20190626T123616Z
SUMMARY:Boys Soccer at Home vs. Hamilton
URL;VALUE=URI:https://www.hudsonvillepublicschools.org/baldwinstreet/athlet
 ics/calendar/2013146/boys-soccer-at-home-vs-hamilton
DTSTART:20191015T200000Z
DTEND:20191015T220000Z
END:VEVENT
END:VCALENDAR
