BEGIN:VCALENDAR
VERSION:2.0
PRODID:SchoolNow
CALSCALE:GREGORIAN
BEGIN:VEVENT
UID:ce801410-980e-11e9-a9b9-12cbb48cdbc6
DTSTAMP:20190626T124045Z
SUMMARY:Boys Soccer at Byron Center
URL;VALUE=URI:https://www.hudsonvillepublicschools.org/baldwinstreet/athlet
 ics/calendar/2013145/boys-soccer-at-byron-center
DTSTART:20191010T200000Z
DTEND:20191010T210000Z
END:VEVENT
END:VCALENDAR
