BEGIN:VCALENDAR
VERSION:2.0
PRODID:SchoolNow
CALSCALE:GREGORIAN
BEGIN:VEVENT
UID:aa8acc8a-980e-11e9-b774-12cbb48cdbc6
DTSTAMP:20190626T123356Z
SUMMARY:Boys Soccer at Grand Haven
URL;VALUE=URI:https://www.hudsonvillepublicschools.org/baldwinstreet/athlet
 ics/calendar/2013144/boys-soccer-at-grand-haven
DTSTART:20191008T200000Z
DTEND:20191008T220000Z
END:VEVENT
END:VCALENDAR
