BEGIN:VCALENDAR
VERSION:2.0
PRODID:SchoolNow
CALSCALE:GREGORIAN
BEGIN:VEVENT
UID:7ddcb87e-980e-11e9-b2c6-12c184b28a90
DTSTAMP:20190626T123936Z
SUMMARY:Boys Soccer at Holland Christian
URL;VALUE=URI:https://www.hudsonvillepublicschools.org/baldwinstreet/athlet
 ics/calendar/2013143/boys-soccer-at-holland-christian
DTSTART:20191003T200000Z
DTEND:20191003T220000Z
END:VEVENT
END:VCALENDAR
