BEGIN:VCALENDAR
VERSION:2.0
PRODID:SchoolNow
CALSCALE:GREGORIAN
BEGIN:VEVENT
UID:f87a2734-980d-11e9-80a7-1251fd806634
DTSTAMP:20190626T122858Z
SUMMARY:Boys Soccer at Zeeland Cityside
URL;VALUE=URI:https://www.hudsonvillepublicschools.org/baldwinstreet/athlet
 ics/calendar/2013142/boys-soccer-at-zeeland-cityside
DTSTART:20191001T200000Z
DTEND:20191001T220000Z
END:VEVENT
END:VCALENDAR
