BEGIN:VCALENDAR
VERSION:2.0
PRODID:SchoolNow
CALSCALE:GREGORIAN
BEGIN:VEVENT
UID:6fe26918-980d-11e9-a310-12cbb48cdbc6
DTSTAMP:20190626T122509Z
SUMMARY:Boys Soccer at Home vs. West Ottawa Black
URL;VALUE=URI:https://www.hudsonvillepublicschools.org/baldwinstreet/athlet
 ics/calendar/2013141/boys-soccer-at-home-vs-west-ottawa-black
DTSTART:20190926T200000Z
DTEND:20190926T220000Z
END:VEVENT
END:VCALENDAR
