BEGIN:VCALENDAR
VERSION:2.0
PRODID:SchoolNow
CALSCALE:GREGORIAN
BEGIN:VEVENT
UID:37a5e2fa-980d-11e9-811a-0a517fbd488e
DTSTAMP:20190626T122334Z
SUMMARY:Boys Soccer at West Ottawa
URL;VALUE=URI:https://www.hudsonvillepublicschools.org/baldwinstreet/athlet
 ics/calendar/2013140/boys-soccer-at-west-ottawa
DTSTART:20190924T200000Z
DTEND:20190924T220000Z
END:VEVENT
END:VCALENDAR
