BEGIN:VCALENDAR
VERSION:2.0
PRODID:SchoolNow
CALSCALE:GREGORIAN
BEGIN:VEVENT
UID:ff3ee222-980c-11e9-8895-0aaaa52d11d6
DTSTAMP:20190626T122200Z
SUMMARY:Boys Soccer at Home vs. Holland
URL;VALUE=URI:https://www.hudsonvillepublicschools.org/baldwinstreet/athlet
 ics/calendar/2013139/boys-soccer-at-home-vs-holland
DTSTART:20190923T200000Z
DTEND:20190923T220000Z
END:VEVENT
END:VCALENDAR
