BEGIN:VCALENDAR
VERSION:2.0
PRODID:SchoolNow
CALSCALE:GREGORIAN
BEGIN:VEVENT
UID:26c166c8-980b-11e9-9559-12cbb48cdbc6
DTSTAMP:20190626T120847Z
SUMMARY:Boys Soccer at Home vs. Muskegon
URL;VALUE=URI:https://www.hudsonvillepublicschools.org/baldwinstreet/athlet
 ics/calendar/2013138/boys-soccer
DTSTART:20190919T200000Z
DTEND:20190919T220000Z
END:VEVENT
END:VCALENDAR
