BEGIN:VCALENDAR
VERSION:2.0
PRODID:SchoolNow
CALSCALE:GREGORIAN
BEGIN:VEVENT
UID:4ae64842-977b-11e9-a975-0ab2b55bde9c
DTSTAMP:20190625T185900Z
SUMMARY:Boys Soccer at home vs. Grandville
URL;VALUE=URI:https://www.hudsonvillepublicschools.org/baldwinstreet/athlet
 ics/calendar/2012646/boys-soccer-at-home-vs-grandville
DTSTART:20190917T200000Z
DTEND:20190917T220000Z
END:VEVENT
END:VCALENDAR
