BEGIN:VCALENDAR
VERSION:2.0
PRODID:SchoolNow
CALSCALE:GREGORIAN
BEGIN:VEVENT
UID:0097b654-977b-11e9-86ae-12d30cb65c56
DTSTAMP:20190625T185940Z
SUMMARY:Boys Soccer at home vs. Zeeland Creekside
URL;VALUE=URI:https://www.hudsonvillepublicschools.org/baldwinstreet/athlet
 ics/calendar/2012645/boys-soccer-at-home-vs-zeeland-creekside
DTSTART:20190912T200000Z
DTEND:20190912T220000Z
END:VEVENT
END:VCALENDAR
