BEGIN:VCALENDAR
VERSION:2.0
PRODID:SchoolNow
CALSCALE:GREGORIAN
BEGIN:VEVENT
UID:99f961dc-9779-11e9-ab85-0a1c2a785db2
DTSTAMP:20190821T200042Z
SUMMARY:Girls Volleyball at Grandville
URL;VALUE=URI:https://www.hudsonvillepublicschools.org/baldwinstreet/athlet
 ics/calendar/2012644/girls-volleyball-at-grandville
DTSTART:20190925T200000Z
DTEND:20190925T220000Z
END:VEVENT
END:VCALENDAR
