BEGIN:VCALENDAR
VERSION:2.0
PRODID:SchoolNow
CALSCALE:GREGORIAN
BEGIN:VEVENT
UID:6da52972-9779-11e9-9a63-12d1063e7bc4
DTSTAMP:20190625T184539Z
SUMMARY:Girls Tennis at Grand Haven Blue
URL;VALUE=URI:https://www.hudsonvillepublicschools.org/baldwinstreet/athlet
 ics/calendar/2012643/girls-tennis-at-grand-haven-blue
DTSTART:20191015T200000Z
DTEND:20191015T220000Z
END:VEVENT
END:VCALENDAR
