BEGIN:VCALENDAR
VERSION:2.0
PRODID:SchoolNow
CALSCALE:GREGORIAN
BEGIN:VEVENT
UID:35978d0e-9779-11e9-9ee4-12d1063e7bc4
DTSTAMP:20190909T164230Z
SUMMARY:Girls Volleyball Tournament - Mona Shores/Reeths Puffer
URL;VALUE=URI:https://www.hudsonvillepublicschools.org/baldwinstreet/athlet
 ics/calendar/2012642/girls-volleyball-tournament-mona-shores-reeths-puffer
DTSTART:20191005T130000Z
DTEND:20191005T170000Z
END:VEVENT
END:VCALENDAR
